BEGIN:VCALENDAR
VERSION:2.0
PRODID:-//Benoît Déchelle - ECPv6.15.20//NONSGML v1.0//EN
CALSCALE:GREGORIAN
METHOD:PUBLISH
X-ORIGINAL-URL:https://www.benoit-dechelle.art
X-WR-CALDESC:Évènements pour Benoît Déchelle
REFRESH-INTERVAL;VALUE=DURATION:PT1H
X-Robots-Tag:noindex
X-PUBLISHED-TTL:PT1H
BEGIN:VTIMEZONE
TZID:Europe/Paris
BEGIN:DAYLIGHT
TZOFFSETFROM:+0100
TZOFFSETTO:+0200
TZNAME:CEST
DTSTART:20200329T010000
END:DAYLIGHT
BEGIN:STANDARD
TZOFFSETFROM:+0200
TZOFFSETTO:+0100
TZNAME:CET
DTSTART:20201025T010000
END:STANDARD
BEGIN:DAYLIGHT
TZOFFSETFROM:+0100
TZOFFSETTO:+0200
TZNAME:CEST
DTSTART:20210328T010000
END:DAYLIGHT
BEGIN:STANDARD
TZOFFSETFROM:+0200
TZOFFSETTO:+0100
TZNAME:CET
DTSTART:20211031T010000
END:STANDARD
BEGIN:DAYLIGHT
TZOFFSETFROM:+0100
TZOFFSETTO:+0200
TZNAME:CEST
DTSTART:20220327T010000
END:DAYLIGHT
BEGIN:STANDARD
TZOFFSETFROM:+0200
TZOFFSETTO:+0100
TZNAME:CET
DTSTART:20221030T010000
END:STANDARD
END:VTIMEZONE
BEGIN:VEVENT
DTSTART;TZID=Europe/Paris:20210820T150000
DTEND;TZID=Europe/Paris:20210919T190000
DTSTAMP:20260419T163032
CREATED:20210714T082401Z
LAST-MODIFIED:20210819T075030Z
UID:6321-1629471600-1632078000@www.benoit-dechelle.art
SUMMARY:“Trio d'ivresses” à la Galerie Duo de Saint-Flour (Cantal)
DESCRIPTION:Dans le cadre des Estivales de la galerie Duo\, un « Trio d’ivresses” est réuni avec : \n– les sculptures de personnages de Ode (Clermont-Ferrand) \n– les peintures colorées de Julie d’Aragon (Bordeaux) \n– les peintures d’animaux coincés de Benoît Déchelle (Touraine). \n  \nGALERIE DUO – 6\, rue du Breuil – 15100 Saint–Flour \nOuverte du mardi au dimanche de 15h à 19h et sur rendez-vous au 06 08 10 11 17\n(horaires susceptibles d’être modifiés) \n 
URL:https://www.benoit-dechelle.art/evenement/exposition-a-la-galerie-duo-de-saint-flour-15/
LOCATION:Galerie Duo\, 6\, rue du Breuil\, Saint-Flour\, 15100\, France
CATEGORIES:Exposition
ATTACH;FMTTYPE=image/jpeg:https://www.benoit-dechelle.art/wp-content/uploads/2021/08/Trio-ivresse-galerie-Duo-St-Flour-2021.jpg
END:VEVENT
END:VCALENDAR