BEGIN:VCALENDAR
VERSION:2.0
PRODID:-//Benoît Déchelle - ECPv6.15.20//NONSGML v1.0//EN
CALSCALE:GREGORIAN
METHOD:PUBLISH
X-ORIGINAL-URL:https://www.benoit-dechelle.art
X-WR-CALDESC:Évènements pour Benoît Déchelle
REFRESH-INTERVAL;VALUE=DURATION:PT1H
X-Robots-Tag:noindex
X-PUBLISHED-TTL:PT1H
BEGIN:VTIMEZONE
TZID:Europe/Paris
BEGIN:DAYLIGHT
TZOFFSETFROM:+0100
TZOFFSETTO:+0200
TZNAME:CEST
DTSTART:20220327T010000
END:DAYLIGHT
BEGIN:STANDARD
TZOFFSETFROM:+0200
TZOFFSETTO:+0100
TZNAME:CET
DTSTART:20221030T010000
END:STANDARD
BEGIN:DAYLIGHT
TZOFFSETFROM:+0100
TZOFFSETTO:+0200
TZNAME:CEST
DTSTART:20230326T010000
END:DAYLIGHT
BEGIN:STANDARD
TZOFFSETFROM:+0200
TZOFFSETTO:+0100
TZNAME:CET
DTSTART:20231029T010000
END:STANDARD
BEGIN:DAYLIGHT
TZOFFSETFROM:+0100
TZOFFSETTO:+0200
TZNAME:CEST
DTSTART:20240331T010000
END:DAYLIGHT
BEGIN:STANDARD
TZOFFSETFROM:+0200
TZOFFSETTO:+0100
TZNAME:CET
DTSTART:20241027T010000
END:STANDARD
END:VTIMEZONE
BEGIN:VEVENT
DTSTART;TZID=Europe/Paris:20231208T183000
DTEND;TZID=Europe/Paris:20231210T190000
DTSTAMP:20260423T135842
CREATED:20231115T230355Z
LAST-MODIFIED:20231115T230534Z
UID:7019-1702060200-1702234800@www.benoit-dechelle.art
SUMMARY:Les Petits Formats aux Beaux-Arts à Tours (37) les 8\, 9 et 10 déc. 2023
DESCRIPTION:Les Petits Formats à l’École Supérieure d’Art et de Design TALM-Tours\n40\, rue du Docteur Chaumier – 37000 TOURS\, avec une centaine d’artistes et d’étudiants de l’ESAD – Entrée libre \nExposition ouverte :\n– vendredi 8 de 18h30 à 21h (vernissage)\n– samedi 9 de 15h à 19h \n– dimanche 10 de 15h à 19h \norganisée par Mode d’Emploi et Ozart (Association des élèves de l’École supérieure d’Art et de Design TALM-Tours)
URL:https://www.benoit-dechelle.art/evenement/les-petits-formats-aux-beaux-arts-a-tours-37-les-9-9-et-10-dec-2023/
LOCATION:École Supérieure d’Art et de Design à Tours\, 40\, rue du Docteur Chaumier\, Tours\, 37000\, France
CATEGORIES:Salon
ATTACH;FMTTYPE=image/jpeg:https://www.benoit-dechelle.art/wp-content/uploads/2023/11/Petits-Formats-Tours-2023.jpg
END:VEVENT
END:VCALENDAR