BEGIN:VCALENDAR
VERSION:2.0
PRODID:-//Benoît Déchelle - ECPv6.15.20//NONSGML v1.0//EN
CALSCALE:GREGORIAN
METHOD:PUBLISH
X-WR-CALNAME:Benoît Déchelle
X-ORIGINAL-URL:https://www.benoit-dechelle.art
X-WR-CALDESC:Évènements pour Benoît Déchelle
REFRESH-INTERVAL;VALUE=DURATION:PT1H
X-Robots-Tag:noindex
X-PUBLISHED-TTL:PT1H
BEGIN:VTIMEZONE
TZID:Europe/Paris
BEGIN:DAYLIGHT
TZOFFSETFROM:+0100
TZOFFSETTO:+0200
TZNAME:CEST
DTSTART:20220327T010000
END:DAYLIGHT
BEGIN:STANDARD
TZOFFSETFROM:+0200
TZOFFSETTO:+0100
TZNAME:CET
DTSTART:20221030T010000
END:STANDARD
BEGIN:DAYLIGHT
TZOFFSETFROM:+0100
TZOFFSETTO:+0200
TZNAME:CEST
DTSTART:20230326T010000
END:DAYLIGHT
BEGIN:STANDARD
TZOFFSETFROM:+0200
TZOFFSETTO:+0100
TZNAME:CET
DTSTART:20231029T010000
END:STANDARD
BEGIN:DAYLIGHT
TZOFFSETFROM:+0100
TZOFFSETTO:+0200
TZNAME:CEST
DTSTART:20240331T010000
END:DAYLIGHT
BEGIN:STANDARD
TZOFFSETFROM:+0200
TZOFFSETTO:+0100
TZNAME:CET
DTSTART:20241027T010000
END:STANDARD
END:VTIMEZONE
BEGIN:VEVENT
DTSTART;TZID=Europe/Paris:20231216T100000
DTEND;TZID=Europe/Paris:20231217T180000
DTSTAMP:20260423T135708
CREATED:20231116T223125Z
LAST-MODIFIED:20231116T224741Z
UID:7025-1702720800-1702836000@www.benoit-dechelle.art
SUMMARY:Atelier de Benoît Déchelle ouvert à Neuvy-le-Roi (37)
DESCRIPTION:Atelier ouvert les samedi 16 et dimanche 17 décembre 2023 à Neuvy-le-Roi de 10 h à 12 h 30 et de 14 h à 18 h\nBenoît Déchelle vous accueille avec plaisir dans son atelier (5\, rue Saint-André – 37370 Neuvy-le-Roi) : Peintures de toute taille — Dessins petits formats — Livre d’artiste… pour une idée cadeau ou pour une simple visite ! \nEntrée libre.
URL:https://www.benoit-dechelle.art/evenement/atelier-de-benoit-dechelle-ouvert-a-neuvy-le-roi-37-3/
LOCATION:Atelier de Benoît Déchelle\, 5\, rue Saint-André\, Neuvy-le-Roi\, 37370\, France
CATEGORIES:Visite d'atelier
END:VEVENT
END:VCALENDAR