BEGIN:VCALENDAR
VERSION:2.0
PRODID:-//Benoît Déchelle - ECPv6.15.20//NONSGML v1.0//EN
CALSCALE:GREGORIAN
METHOD:PUBLISH
X-ORIGINAL-URL:https://www.benoit-dechelle.art
X-WR-CALDESC:Évènements pour Benoît Déchelle
REFRESH-INTERVAL;VALUE=DURATION:PT1H
X-Robots-Tag:noindex
X-PUBLISHED-TTL:PT1H
BEGIN:VTIMEZONE
TZID:Europe/Paris
BEGIN:DAYLIGHT
TZOFFSETFROM:+0100
TZOFFSETTO:+0200
TZNAME:CEST
DTSTART:20230326T010000
END:DAYLIGHT
BEGIN:STANDARD
TZOFFSETFROM:+0200
TZOFFSETTO:+0100
TZNAME:CET
DTSTART:20231029T010000
END:STANDARD
BEGIN:DAYLIGHT
TZOFFSETFROM:+0100
TZOFFSETTO:+0200
TZNAME:CEST
DTSTART:20240331T010000
END:DAYLIGHT
BEGIN:STANDARD
TZOFFSETFROM:+0200
TZOFFSETTO:+0100
TZNAME:CET
DTSTART:20241027T010000
END:STANDARD
BEGIN:DAYLIGHT
TZOFFSETFROM:+0100
TZOFFSETTO:+0200
TZNAME:CEST
DTSTART:20250330T010000
END:DAYLIGHT
BEGIN:STANDARD
TZOFFSETFROM:+0200
TZOFFSETTO:+0100
TZNAME:CET
DTSTART:20251026T010000
END:STANDARD
END:VTIMEZONE
BEGIN:VEVENT
DTSTART;TZID=Europe/Paris:20240214T110000
DTEND;TZID=Europe/Paris:20240218T180000
DTSTAMP:20260423T170518
CREATED:20231204T134817Z
LAST-MODIFIED:20240214T231633Z
UID:7031-1707908400-1708279200@www.benoit-dechelle.art
SUMMARY:Salon des Artistes Français au Grand Palais Éphémère à Paris (75)
DESCRIPTION:Salon des Artistes Français dans le cadre d’Art Capital\n Grand Palais Éphémère (Champs de Mars)\, place Joffre à Paris 7e\n Vernissage : mardi 13 février de 15h à 22h exclusivement avec carton d’invitation\n \nMercredi 14\, jeudi 15 et samedi 17 février de 11h à 20h\nNocturne le vendredi 16 février de 11h à 22h\nDimanche 18 février de 11h à 18h
URL:https://www.benoit-dechelle.art/evenement/salon-des-artistes-francais-au-grand-palais-ephemere-a-paris-75-3/
LOCATION:Grand Palais éphémère\, Place Joffre\, Paris\, 75007\, France
CATEGORIES:Salon
END:VEVENT
END:VCALENDAR