BEGIN:VCALENDAR
VERSION:2.0
PRODID:-//Benoît Déchelle - ECPv6.15.20//NONSGML v1.0//EN
CALSCALE:GREGORIAN
METHOD:PUBLISH
X-WR-CALNAME:Benoît Déchelle
X-ORIGINAL-URL:https://www.benoit-dechelle.art
X-WR-CALDESC:Évènements pour Benoît Déchelle
REFRESH-INTERVAL;VALUE=DURATION:PT1H
X-Robots-Tag:noindex
X-PUBLISHED-TTL:PT1H
BEGIN:VTIMEZONE
TZID:Europe/Paris
BEGIN:DAYLIGHT
TZOFFSETFROM:+0100
TZOFFSETTO:+0200
TZNAME:CEST
DTSTART:20230326T010000
END:DAYLIGHT
BEGIN:STANDARD
TZOFFSETFROM:+0200
TZOFFSETTO:+0100
TZNAME:CET
DTSTART:20231029T010000
END:STANDARD
BEGIN:DAYLIGHT
TZOFFSETFROM:+0100
TZOFFSETTO:+0200
TZNAME:CEST
DTSTART:20240331T010000
END:DAYLIGHT
BEGIN:STANDARD
TZOFFSETFROM:+0200
TZOFFSETTO:+0100
TZNAME:CET
DTSTART:20241027T010000
END:STANDARD
BEGIN:DAYLIGHT
TZOFFSETFROM:+0100
TZOFFSETTO:+0200
TZNAME:CEST
DTSTART:20250330T010000
END:DAYLIGHT
BEGIN:STANDARD
TZOFFSETFROM:+0200
TZOFFSETTO:+0100
TZNAME:CET
DTSTART:20251026T010000
END:STANDARD
END:VTIMEZONE
BEGIN:VEVENT
DTSTART;VALUE=DATE:20240501
DTEND;VALUE=DATE:20241007
DTSTAMP:20260423T220402
CREATED:20240504T140606Z
LAST-MODIFIED:20240825T122913Z
UID:7175-1714521600-1728259199@www.benoit-dechelle.art
SUMMARY:Exposition de Grands Formats à Neuvy-le-Roi (37)
DESCRIPTION:EXPOSITION GRANDS FORMATS dans le village de NEUVY-LE-ROI (37) de MAI à OCTOBRE 2024. \nUne installation organisée par le service culturel de la mairie qui a choisi une demi-douzaine de toiles issues du concours des Pussifolies (Pussigny – 37). \nDébut mai\, deux premières toiles ont été accrochées\, celles de Jean-Michel Roger à l’espace Jeanne d’Arc (près de la bibliothèque) et de Benoît Déchelle\, rue de la Fourbisserie au niveau de l’ancien presbytère. \nOnt ensuite été installés\n– une deuxième toile de Benoît Déchelle (“Belmondo\, le professionnel”) rue de la Fontaine\n– une toile de Isabelle Motha\, rue Bel-Ébat\,\n– une toile de Christine Ramat\, place des Déportés\n– et une toile de Gil KD\, rue du Noyer.
URL:https://www.benoit-dechelle.art/evenement/exposition-de-grands-formats-a-neuvy-le-roi-37/
LOCATION:Neuvy-le-Roi\, Neuvy-le-Roi\, 37370\, France
CATEGORIES:Exposition
ATTACH;FMTTYPE=image/jpeg:https://www.benoit-dechelle.art/wp-content/uploads/2024/05/Expo-Grands-formats-Neuvy-2024-Dechelle-1.jpg
END:VEVENT
BEGIN:VEVENT
DTSTART;TZID=Europe/Paris:20240525T103000
DTEND;TZID=Europe/Paris:20240602T190000
DTSTAMP:20260423T220402
CREATED:20240320T142740Z
LAST-MODIFIED:20240320T142740Z
UID:7100-1716633000-1717354800@www.benoit-dechelle.art
SUMMARY:Biennale peinture et sculpture de Savonnières (37)
DESCRIPTION:Après son Prix de peinture lors de la précédente édition\, Benoît Déchelle présente 4 toiles à la Biennale de Savonnières 2024. \n\n16e Biennale de peinture et de sculpture\ndu samedi 25 mai au dimanche 2 juin 2024\naux Serres de la Tuilerie\, route du Perreau – 37510 Savonnières\nVernissage le samedi 25 mai 2024 à 18h. \nInvités d’honneur : Giovanni SCARCIELLO\, sculpteur et Marlène GUICHARD\, peintre\n \nOuvert en semaine de 16h à 19h – Week-ends de 10h30 à 19h\nNocturne jusqu’à 22h et concert le vendredi 31 mai\nRenseignements – Mairie de Savonnières\n02 47 43 53 72 – biennale.savonnieres@gmail.com \nLes prix du public (peinture et sculpture) seront remis lors de la clôture de l’exposition\, le dimanche 2 juin 2024 à 17h00.
URL:https://www.benoit-dechelle.art/evenement/biennale-peinture-et-sculpture-de-savonnieres-37/
CATEGORIES:Salon
END:VEVENT
BEGIN:VEVENT
DTSTART;TZID=Europe/Paris:20240602T090000
DTEND;TZID=Europe/Paris:20240602T170000
DTSTAMP:20260423T220402
CREATED:20240324T210209Z
LAST-MODIFIED:20240324T210209Z
UID:7103-1717318800-1717347600@www.benoit-dechelle.art
SUMMARY:Pussifolies – Concours de Grands Formats à Pussigny (37)
DESCRIPTION:De 9h à 17h\, trente artistes réalisent devant le public trente œuvres de 2 x 4 m dans les rues du village de Pussigny.\nProgramme :\n9h : Début du concours\n11h : Inauguration\n17h : Fin du concours\n18h : Remise des Prix\net toute la journée : Exposants\, sculpteurs\, artisans d’art…\nENTRÉE LIBRE ET GRATUITE
URL:https://www.benoit-dechelle.art/evenement/pussifolies-concours-de-grands-formats-a-pussigny-37-2/
LOCATION:Pussigny\, Pussigny\, 37800\, France
CATEGORIES:Concours
END:VEVENT
END:VCALENDAR