BEGIN:VCALENDAR
VERSION:2.0
PRODID:-//Benoît Déchelle - ECPv6.15.20//NONSGML v1.0//EN
CALSCALE:GREGORIAN
METHOD:PUBLISH
X-ORIGINAL-URL:https://www.benoit-dechelle.art
X-WR-CALDESC:Évènements pour Benoît Déchelle
REFRESH-INTERVAL;VALUE=DURATION:PT1H
X-Robots-Tag:noindex
X-PUBLISHED-TTL:PT1H
BEGIN:VTIMEZONE
TZID:Europe/Paris
BEGIN:DAYLIGHT
TZOFFSETFROM:+0100
TZOFFSETTO:+0200
TZNAME:CEST
DTSTART:20230326T010000
END:DAYLIGHT
BEGIN:STANDARD
TZOFFSETFROM:+0200
TZOFFSETTO:+0100
TZNAME:CET
DTSTART:20231029T010000
END:STANDARD
BEGIN:DAYLIGHT
TZOFFSETFROM:+0100
TZOFFSETTO:+0200
TZNAME:CEST
DTSTART:20240331T010000
END:DAYLIGHT
BEGIN:STANDARD
TZOFFSETFROM:+0200
TZOFFSETTO:+0100
TZNAME:CET
DTSTART:20241027T010000
END:STANDARD
BEGIN:DAYLIGHT
TZOFFSETFROM:+0100
TZOFFSETTO:+0200
TZNAME:CEST
DTSTART:20250330T010000
END:DAYLIGHT
BEGIN:STANDARD
TZOFFSETFROM:+0200
TZOFFSETTO:+0100
TZNAME:CET
DTSTART:20251026T010000
END:STANDARD
END:VTIMEZONE
BEGIN:VEVENT
DTSTART;VALUE=DATE:20240603
DTEND;VALUE=DATE:20241101
DTSTAMP:20260424T060855
CREATED:20240618T201150Z
LAST-MODIFIED:20240618T201150Z
UID:7229-1717372800-1730419199@www.benoit-dechelle.art
SUMMARY:Les Pussifolies : exposition des 30 grands formats 2024 à Pussigny (37)
DESCRIPTION:Les 30 toiles de é x 4 m réalisées par les 30 peintres lors du concours des Pussifolies du 11 juin 2023 restent installées dans les rues du village de Pussigny jusqu’au 31 octobre 2023.
URL:https://www.benoit-dechelle.art/evenement/les-pussifolies-exposition-des-30-grands-formats-2024-a-pussigny-37/
LOCATION:Pussigny\, Pussigny\, 37800\, France
CATEGORIES:Exposition
END:VEVENT
BEGIN:VEVENT
DTSTART;TZID=Europe/Paris:20241008T110000
DTEND;TZID=Europe/Paris:20241117T190000
DTSTAMP:20260424T060855
CREATED:20240618T203853Z
LAST-MODIFIED:20240928T123958Z
UID:7237-1728385200-1731870000@www.benoit-dechelle.art
SUMMARY:Exposition à la librairie Le Bibliovore à Tours (37)
DESCRIPTION:Exposition à la librairie Le Bibliovore – 91\, rue Colbert – à Tours (37) du mardi 8 octobre au dimanche 17 novembre 2024. \nPeintures de Benoît Déchelle visibles aux heures d’ouverture de la librairie : tous les jours de 11h à 13h et de 15h à 19h.
URL:https://www.benoit-dechelle.art/evenement/exposition-a-la-librairie-le-bibliovore-a-tours-37/
LOCATION:La librairie Le Bibliovore\, 91 rue Colbert\, Tours\, 37000\, France
CATEGORIES:Exposition
END:VEVENT
BEGIN:VEVENT
DTSTART;TZID=Europe/Paris:20241012T100000
DTEND;TZID=Europe/Paris:20241027T190000
DTSTAMP:20260424T060855
CREATED:20240618T202550Z
LAST-MODIFIED:20240618T202659Z
UID:7231-1728727200-1730055600@www.benoit-dechelle.art
SUMMARY:Biennale animalière à Rambouillet (78)
DESCRIPTION:Biennale animalière de Rambouillet du samedi 12 octobre au dimanche 27 octobre 2024. \nVernissage le samedi 12 octobre 2024 à 17h00. \nOuverture les samedis et dimanches de 10h00 à 19h00 et les lundis\, mardis\, mercredis\, jeudis et vendredis de 13h30 à 18h30.
URL:https://www.benoit-dechelle.art/evenement/biennale-animaliere-de-rambouillet-78/
LOCATION:Salle Patenôtre\, 64 rue Gambetta\, Ramboullet\, 78100\, France
CATEGORIES:Exposition
END:VEVENT
BEGIN:VEVENT
DTSTART;TZID=Europe/Paris:20241019T140000
DTEND;TZID=Europe/Paris:20241027T180000
DTSTAMP:20260424T060855
CREATED:20240817T120654Z
LAST-MODIFIED:20240823T220116Z
UID:7245-1729346400-1730052000@www.benoit-dechelle.art
SUMMARY:Salon Art et Poésie de Touraine à St-Cyr-sur-Loire (37)
DESCRIPTION:41e Salon Art et Poésie de Touraine organisé par l’association Art et Poésie de Touraine \nInvités d’honneur :\nEn sculpture : Josiane CANTIN\nEn peinture : Gérard FALLY. \nVernissage et remise de prix : samedi 19 octobre 2024 à 18h \nAu Manoir de la Tour\n24-26\, rue Victor Hugo\n37540 Saint-Cyr-sur-Loire \nOuverture du salon de 14h à 18h
URL:https://www.benoit-dechelle.art/evenement/salon-art-et-poesie-a-st-cyr-sur-loire-37-2/
LOCATION:Le Manoir de la Tour\, 24-26\, rue Victor Hugo\, Saint-Cyr-sur-Loire\, 37540\, France
CATEGORIES:Salon
END:VEVENT
END:VCALENDAR