BEGIN:VCALENDAR
VERSION:2.0
PRODID:-//Benoît Déchelle - ECPv6.15.20//NONSGML v1.0//EN
CALSCALE:GREGORIAN
METHOD:PUBLISH
X-WR-CALNAME:Benoît Déchelle
X-ORIGINAL-URL:https://www.benoit-dechelle.art
X-WR-CALDESC:Évènements pour Benoît Déchelle
REFRESH-INTERVAL;VALUE=DURATION:PT1H
X-Robots-Tag:noindex
X-PUBLISHED-TTL:PT1H
BEGIN:VTIMEZONE
TZID:Europe/Paris
BEGIN:DAYLIGHT
TZOFFSETFROM:+0100
TZOFFSETTO:+0200
TZNAME:CEST
DTSTART:20230326T010000
END:DAYLIGHT
BEGIN:STANDARD
TZOFFSETFROM:+0200
TZOFFSETTO:+0100
TZNAME:CET
DTSTART:20231029T010000
END:STANDARD
BEGIN:DAYLIGHT
TZOFFSETFROM:+0100
TZOFFSETTO:+0200
TZNAME:CEST
DTSTART:20240331T010000
END:DAYLIGHT
BEGIN:STANDARD
TZOFFSETFROM:+0200
TZOFFSETTO:+0100
TZNAME:CET
DTSTART:20241027T010000
END:STANDARD
BEGIN:DAYLIGHT
TZOFFSETFROM:+0100
TZOFFSETTO:+0200
TZNAME:CEST
DTSTART:20250330T010000
END:DAYLIGHT
BEGIN:STANDARD
TZOFFSETFROM:+0200
TZOFFSETTO:+0100
TZNAME:CET
DTSTART:20251026T010000
END:STANDARD
END:VTIMEZONE
BEGIN:VEVENT
DTSTART;TZID=Europe/Paris:20240602T090000
DTEND;TZID=Europe/Paris:20240602T170000
DTSTAMP:20260426T032854
CREATED:20240324T210209Z
LAST-MODIFIED:20240324T210209Z
UID:7103-1717318800-1717347600@www.benoit-dechelle.art
SUMMARY:Pussifolies – Concours de Grands Formats à Pussigny (37)
DESCRIPTION:De 9h à 17h\, trente artistes réalisent devant le public trente œuvres de 2 x 4 m dans les rues du village de Pussigny.\nProgramme :\n9h : Début du concours\n11h : Inauguration\n17h : Fin du concours\n18h : Remise des Prix\net toute la journée : Exposants\, sculpteurs\, artisans d’art…\nENTRÉE LIBRE ET GRATUITE
URL:https://www.benoit-dechelle.art/evenement/pussifolies-concours-de-grands-formats-a-pussigny-37-2/
LOCATION:Pussigny\, Pussigny\, 37800\, France
CATEGORIES:Concours
END:VEVENT
END:VCALENDAR