BEGIN:VCALENDAR
VERSION:2.0
PRODID:-//Benoît Déchelle - ECPv6.15.20//NONSGML v1.0//EN
CALSCALE:GREGORIAN
METHOD:PUBLISH
X-ORIGINAL-URL:https://www.benoit-dechelle.art
X-WR-CALDESC:Évènements pour Benoît Déchelle
REFRESH-INTERVAL;VALUE=DURATION:PT1H
X-Robots-Tag:noindex
X-PUBLISHED-TTL:PT1H
BEGIN:VTIMEZONE
TZID:Europe/Paris
BEGIN:DAYLIGHT
TZOFFSETFROM:+0100
TZOFFSETTO:+0200
TZNAME:CEST
DTSTART:20220327T010000
END:DAYLIGHT
BEGIN:STANDARD
TZOFFSETFROM:+0200
TZOFFSETTO:+0100
TZNAME:CET
DTSTART:20221030T010000
END:STANDARD
BEGIN:DAYLIGHT
TZOFFSETFROM:+0100
TZOFFSETTO:+0200
TZNAME:CEST
DTSTART:20230326T010000
END:DAYLIGHT
BEGIN:STANDARD
TZOFFSETFROM:+0200
TZOFFSETTO:+0100
TZNAME:CET
DTSTART:20231029T010000
END:STANDARD
BEGIN:DAYLIGHT
TZOFFSETFROM:+0100
TZOFFSETTO:+0200
TZNAME:CEST
DTSTART:20240331T010000
END:DAYLIGHT
BEGIN:STANDARD
TZOFFSETFROM:+0200
TZOFFSETTO:+0100
TZNAME:CET
DTSTART:20241027T010000
END:STANDARD
END:VTIMEZONE
BEGIN:VEVENT
DTSTART;VALUE=DATE:20230612
DTEND;VALUE=DATE:20231101
DTSTAMP:20260421T123926
CREATED:20230606T182017Z
LAST-MODIFIED:20230606T213528Z
UID:6858-1686528000-1698796799@www.benoit-dechelle.art
SUMMARY:Exposition des 30 Grands Formats du concours des Pussifolies à Pussigny (37)
DESCRIPTION:Les 30 toiles de é x 4 m réalisées par les 30 peintres lors du concours des Pussifolies du 11 juin 2023 restent installées dans les rues du village de Pussigny jusqu’au 31 octobre 2023.
URL:https://www.benoit-dechelle.art/evenement/exposition-des-30-grands-formats-du-concours-des-pussifolies-a-pussigny-37/
LOCATION:Pussigny\, Pussigny\, 37800\, France
CATEGORIES:Concours,Exposition
ATTACH;FMTTYPE=image/jpeg:https://www.benoit-dechelle.art/wp-content/uploads/2023/06/AFFICHE-LES-PUSSIFOLIES-2023.jpg
END:VEVENT
BEGIN:VEVENT
DTSTART;TZID=Europe/Paris:20230929T143000
DTEND;TZID=Europe/Paris:20231001T180000
DTSTAMP:20260421T123926
CREATED:20230804T200719Z
LAST-MODIFIED:20230930T144816Z
UID:6897-1695997800-1696183200@www.benoit-dechelle.art
SUMMARY:Atelier de Benoît Déchelle ouvert à Neuvy-le-Roi (37)
DESCRIPTION:Dans le cadre des “Ateliers Mode d’Emploi”\, coordonnés par l’association Mode d’Emploi (Tours)\, Benoit Déchelle ouvre son atelier les 29\, 30 septembre et 1er octobre 2023. \nAtelier au 5\, rue Saint-André – 37370 Neuvy-le-Roi\nOuverture :\n– vendredi 29 septembre de 14h30 à 18h30\n– samedi 30 septembre de 10h à 17h\n– dimanche 1er octobre de 10h à 18h. \nNB : L’artiste Michèle Perbet qui devait ouvrir également son atelier à Neuvy-le-Roi a dû annuler sa participation.
URL:https://www.benoit-dechelle.art/evenement/atelier-de-benoit-dechelle-ouvert-a-neuvy-le-roi-37-2/
LOCATION:Atelier de Benoît Déchelle\, 5\, rue Saint-André\, Neuvy-le-Roi\, 37370\, France
CATEGORIES:Visite d'atelier
END:VEVENT
BEGIN:VEVENT
DTSTART;TZID=Europe/Paris:20230930T140000
DTEND;TZID=Europe/Paris:20231008T180000
DTSTAMP:20260421T123926
CREATED:20230905T123836Z
LAST-MODIFIED:20230905T130508Z
UID:6919-1696082400-1696788000@www.benoit-dechelle.art
SUMMARY:Salon Art et Poésie à St-Cyr-sur-Loire (37)
DESCRIPTION:40e Salon Art et Poésie de Touraine organisé par l’association Art et Poésie de Touraine \nInvités d’honneur :\nEn sculpture (représentés par leurs ayants-droits) :\n– Étienne AUDFRAY\, co-fondateur du Salon National des Artistes Animaliers de Bry-sur-Marne\n– Armand PETERSEN\, artiste animalier de renom.\nEn peinture :\n– Béatrice CHAPUIS-BOISSEAU. \nVernissage et remise de prix : samedi 30 septembre 2023 à 18h \nRemise du prix du public : dimanche 8 octobre 2023 à 18h \nAu Manoir de la Tour\n24-26\, rue Victor Hugo\n37540 Saint-Cyr-sur-Loire \nOuverture du salon de 14h à 18h
URL:https://www.benoit-dechelle.art/evenement/salon-art-et-poesie-a-st-cyr-sur-loire-37/
LOCATION:Le Manoir de la Tour\, 24-26\, rue Victor Hugo\, Saint-Cyr-sur-Loire\, 37540\, France
CATEGORIES:Salon
END:VEVENT
BEGIN:VEVENT
DTSTART;TZID=Europe/Paris:20231015T100000
DTEND;TZID=Europe/Paris:20231022T190000
DTSTAMP:20260421T123926
CREATED:20230906T131354Z
LAST-MODIFIED:20231010T091006Z
UID:6928-1697364000-1698001200@www.benoit-dechelle.art
SUMMARY:Salon des Arts de Cholet (49)
DESCRIPTION:53ème Salon des Arts de Cholet qui se déroulera du 15 au 22 octobre 2023 à la Salle des Fêtes organisé par Cholet Évènements \nVernissage et proclamation du palmarès le samedi 14 octobre 2023 à 17h30. Entrée uniquement avec carton d’invitation \nSalle des Fêtes de Cholet\nEsplanade de la Grange\nAvenue Anatole Manceau\n49300 Cholet \nLe salon est ouvert : \n\nles dimanche 15 et 22 octobre\, samedi 21 octobre\, de 10h à 12h et de 14h à 19h\nles lundi 16\, mardi 17 et jeudi 19 octobre\, de 14h à 19h\nle mercredi 18 octobre\, de 9h à 12h et de 14h à 19h\nle vendredi 20 octobre\, en nocturne\, de 14h\, jusqu’à 21h.
URL:https://www.benoit-dechelle.art/evenement/salon-des-arts-de-cholet-49/
LOCATION:Salle des Fêtes de Cholet\, Esplanade de la Grange - Avenue Anatole Manceau\, Cholet\, 49300\, France
CATEGORIES:Salon
END:VEVENT
END:VCALENDAR